BEGIN:VCALENDAR
VERSION:2.0
PRODID:-//St Christopher&#039;s School &amp; Nursery Epsom - ECPv6.15.6//NONSGML v1.0//EN
CALSCALE:GREGORIAN
METHOD:PUBLISH
X-WR-CALNAME:St Christopher&#039;s School &amp; Nursery Epsom
X-ORIGINAL-URL:https://www.st-christophers.surrey.sch.uk
X-WR-CALDESC:Events for St Christopher&#039;s School &amp; Nursery Epsom
REFRESH-INTERVAL;VALUE=DURATION:PT1H
X-Robots-Tag:noindex
X-PUBLISHED-TTL:PT1H
BEGIN:VTIMEZONE
TZID:Europe/London
BEGIN:DAYLIGHT
TZOFFSETFROM:+0000
TZOFFSETTO:+0100
TZNAME:BST
DTSTART:20230326T010000
END:DAYLIGHT
BEGIN:STANDARD
TZOFFSETFROM:+0100
TZOFFSETTO:+0000
TZNAME:GMT
DTSTART:20231029T010000
END:STANDARD
BEGIN:DAYLIGHT
TZOFFSETFROM:+0000
TZOFFSETTO:+0100
TZNAME:BST
DTSTART:20240331T010000
END:DAYLIGHT
BEGIN:STANDARD
TZOFFSETFROM:+0100
TZOFFSETTO:+0000
TZNAME:GMT
DTSTART:20241027T010000
END:STANDARD
BEGIN:DAYLIGHT
TZOFFSETFROM:+0000
TZOFFSETTO:+0100
TZNAME:BST
DTSTART:20250330T010000
END:DAYLIGHT
BEGIN:STANDARD
TZOFFSETFROM:+0100
TZOFFSETTO:+0000
TZNAME:GMT
DTSTART:20251026T010000
END:STANDARD
END:VTIMEZONE
BEGIN:VEVENT
DTSTART;VALUE=DATE:20241212
DTEND;VALUE=DATE:20241213
DTSTAMP:20260421T151831
CREATED:20170929T093531Z
LAST-MODIFIED:20240928T153448Z
UID:2267-1733961600-1734047999@www.st-christophers.surrey.sch.uk
SUMMARY:Christmas Jumper Day
DESCRIPTION:
URL:https://www.st-christophers.surrey.sch.uk/event/christmas-jumper-day/
END:VEVENT
END:VCALENDAR